Workbook

Sheet ①トリセツ
A2: 申込（入力・提出）取り扱い説明書
A4: 大会参加の申込は、HPでの電子ファイル提出をしていただきます。
A5: 以下の手順に従ってご提出をお願いします。ファイルは、男女で分かれています。
A6: ※ 日本バンドミントン協会に登録しないと参加費が変わります
A8: １．横浜市中体連バドミントン専門部のHPより、申込用ファイルをダウンロードします。
A9: ホームページアドレス： https://yokohama-chutairen.asfsite.jp/badminton/
A11: ２．日本バドミントン協会のHPより、協会登録選手の情報を書き出したExcelファイルを用意します。
A12: ホームページアドレス： https://members.badminton.or.jp/nbarv/KNLOGIN.ffc
A13: ※１．団体管理者でログイン → データ出力 → 必要な出力項目にチェックを入れる → CSV出力（ページ最下部）
A14: ※２．必要な出力項目は【基本情報】の中の【会員番号】【氏名（姓）】【氏名（名）】
A15: 【氏名（フリガナ）（姓）】【氏名（フリガナ）（名）】
A16: 【性別区分名】【生年月日】
... A35: メール送付先： 市中体連ホームページの申し込みページから電子データを送信してください。

Sheet ②登録
A1: 日本バドミントン協会 登録情報 | E1: チーム名：
E2: 所属区： | H2: 区
B3: ※ 日本バンドミントン協会に登録しないと参加費が変わります
B4: ↓ 日本バンドミントン協会HPよりcsvファイルをDL → 値を貼り付け
A5: No | B5: 協会登録番号 | C5: 姓 | D5: 名 | E5: 姓カナ | F5: 名カナ | G5: 性別 | H5: 生年月日 | P5: ↓ 顧問名簿のチーム名から末文字の“中”だけ消す
A6: 1 | P6: =IF(RIGHT(N5,1)="中", LEFT(N5,LEN(N5)-1),N5)
A7: 2 | K7: 鶴見 | L7: 市場 | M7: イチバ | N7: 市場中学校 | O7: 1
A8: 3 | K8: 神奈川 | L8: 寛政 | M8: カンセイ | N8: 寛政中学校 | O8: 2
A9: 4 | K9: 西 | L9: 末吉 | M9: スエヨシ | N9: 末吉中学校 | O9: 3
A10: 5 | K10: 中 | L10: 聖ヨゼフ学園 | M10: セイヨゼフガクエン | N10: 聖ヨゼフ学園中学校
A11: 6 | K11: 南 | L11: 鶴見ジュニアバドミントンクラブ | M11: ツルミジュニアバドミントンクラブ | N11: 鶴見ジュニアバドミントンクラブ
A12: 7 | K12: 保土ケ谷 | L12: 鶴見 | M12: ツルミ | N12: 鶴見中学校
A13: 8 | K13: 旭 | L13: 鶴見大学附属 | M13: ツルミダイガクフゾク | N13: 鶴見大学附属中学校
A14: 9 | K14: 泉 | L14: 寺尾 | M14: テラオ | N14: 寺尾中学校
A15: 10 | K15: 瀬谷 | L15: 矢向 | M15: ヤコウ | N15: 矢向中学校
A16: 11 | K16: 港南 | L16: 横浜サイエンスフロンティア高等学校附属 | M16: ヨコハマサイエンスフロンティアコウトウガッコウフゾク | N16: 横浜サイエンスフロンティア高等学校附属中学校
A17: 12 | K17: 磯子 | L17: 浅野 | M17: アサノ | N17: 浅野中学校
A18: 13 | K18: 金沢 | L18: 浦島丘 | M18: ウラシマオカ | N18: 浦島丘中学校
A19: 14 | K19: 戸塚 | L19: 神奈川 | M19: カナガワ | N19: 神奈川中学校
A20: 15 | K20: 栄 | L20: 神奈川学園 | M20: カナガワガクエン | N20: 神奈川学園中学校
A21: 16 | K21: 港北 | L21: 栗田谷 | M21: クリタヤ | N21: 栗田谷中学校
... A24: 19 | K24: 青葉 | L24: 錦台 | M24: ニシキダイ | N24: 錦台中学校
A25: 20 | L25: 松本 | M25: マツモト | N25: 松本中学校
A26: 21 | L26: 横浜創英 | M26: ヨコハマソウエイ | N26: 横浜創英中学校
A27: 22 | L27: 六角橋 | M27: ロッカクバシ | N27: 六角橋中学校
A28: 23 | L28: 岩井原 | M28: イワイハラ | N28: 岩井原中学校
A29: 24 | L29: 老松 | M29: オイマツ | N29: 老松中学校
A30: 25 | L30: 軽井沢 | M30: カルイサワ | N30: 軽井沢中学校
A31: 26 | L31: 西 | M31: ニシ | N31: 西中学校
A32: 27 | L32: 聖光学院 | M32: セイコウガクイン | N32: 聖光学院中学校
A33: 28 | L33: 本牧 | M33: ホンモク | N33: 本牧中学校
A34: 29 | L34: 横浜共立学園 | M34: ヨコハマキョウリツガクエン | N34: 横浜共立学園中学校
A35: 30 | L35: 横浜女学院 | M35: ヨコハマジョガクイン | N35: 横浜女学院中学校
A36: 31 | L36: 青山学院横浜英和 | M36: アオヤマガクインヨコハマエイワ | N36: 青山学院横浜英和中学校
... A105: 100 | L105: 城郷 | M105: シロサト | N105: 城郷中学校
L106: 高田 | M106: タカタ | N106: 高田中学校
L107: 新羽 | M107: ニッパ | N107: 新羽中学校
L108: 日本大学 | M108: ニホンダイガク | N108: 日本大学中学校
L109: 日吉台 | M109: ヒヨシダイ | N109: 日吉台中学校
L110: 日吉台西 | M110: ヒヨシダイニシ | N110: 日吉台西中学校
L111: 武相 | M111: ブソウ | N111: 武相中学校
L112: 鴨居 | M112: カモイ | N112: 鴨居中学校
L113: 田奈 | M113: タナ | N113: 田奈中学校
L114: 十日市場 | M114: トウカイチバ | N114: 十日市場中学校
L115: 中山 | M115: ナカヤマ | N115: 中山中学校
L116: 東鴨居 | M116: ヒガシカモイ | N116: 東鴨居中学校
L117: 森村学園 | M117: モリムラガクエン | N117: 森村学園中学校
... L138: 東山田 | M138: ヒガシヤマタ | N138: 東山田中学校

Sheet ③女子入力
A2: 令和８年度 横浜市中学校バドミントン大会（個人の部）（県共催大会予選会）
I3: 参加申込書 | M3: 予選免除
M4: 鶴見区１位
A5: 女子 | B5: チーム名 | C5: =IF(②登録!F1="","",②登録!F1) | M5: 鶴見区２位
B6: 所属区 | C6: =IF(②登録!F2="","",②登録!F2) | D6: 区 | M6: 鶴見区３位
B7: チーム 所在地 | C7: 〒 | M7: 神奈川区１位
C8: 神奈川県横浜市 | M8: 神奈川区２位
M9: 神奈川区３位
B10: 女子シングルス | M10: 西区１位
M11: 中区１位
B12: チーム内順位 | C12: No. | D12: 協会登録番号 | E12: 姓 | F12: 名 | G12: 姓カナ | H12: 名カナ | I12: 性別 | J12: 生年月日 yyyy/mm/dd | K12: 学年 | M12: 南区１位
B13: １位 | D13: =IFERROR(VLOOKUP(C13,②登録!$A$6:$H$105,2,FALSE),"") | E13: =IFERROR(VLOOKUP(C13,②登録!$A$6:$H$105,3,FALSE),"") | F13: =IFERROR(VLOOKUP(C13,②登録!$A$6:$H$105,4,FALSE),"") | G13: =IFERROR(VLOOKUP(C13,②登録!$A$6:$H$105,5,FALSE),"") | H13: =IFERROR(VLOOKUP(C13,②登録!$A$6:$H$105,6,FALSE),"") | I13: =IFERROR(VLOOKUP(C13,②登録!$A$6:$H$105,7,FALSE),"") | J13: =IFERROR(VLOOKUP(C13,②登録!$A$6:$H$105,8,FALSE),"") | M13: 南区２位
B14: ２位 | D14: =IFERROR(VLOOKUP(C14,②登録!$A$6:$H$105,2,FALSE),"") | E14: =IFERROR(VLOOKUP(C14,②登録!$A$6:$H$105,3,FALSE),"") | F14: =IFERROR(VLOOKUP(C14,②登録!$A$6:$H$105,4,FALSE),"") | G14: =IFERROR(VLOOKUP(C14,②登録!$A$6:$H$105,5,FALSE),"") | H14: =IFERROR(VLOOKUP(C14,②登録!$A$6:$H$105,6,FALSE),"") | I14: =IFERROR(VLOOKUP(C14,②登録!$A$6:$H$105,7,FALSE),"") | J14: =IFERROR(VLOOKUP(C14,②登録!$A$6:$H$105,8,FALSE),"") | M14: 保土ヶ谷区１位
B15: ３位 | D15: =IFERROR(VLOOKUP(C15,②登録!$A$6:$H$105,2,FALSE),"") | E15: =IFERROR(VLOOKUP(C15,②登録!$A$6:$H$105,3,FALSE),"") | F15: =IFERROR(VLOOKUP(C15,②登録!$A$6:$H$105,4,FALSE),"") | G15: =IFERROR(VLOOKUP(C15,②登録!$A$6:$H$105,5,FALSE),"") | H15: =IFERROR(VLOOKUP(C15,②登録!$A$6:$H$105,6,FALSE),"") | I15: =IFERROR(VLOOKUP(C15,②登録!$A$6:$H$105,7,FALSE),"") | J15: =IFERROR(VLOOKUP(C15,②登録!$A$6:$H$105,8,FALSE),"") | M15: 保土ヶ谷区２位
M16: 旭区１位
B17: 女子ダブルス | M17: 旭区２位
M18: 泉区１位
B19: チーム内順位 | C19: No. | D19: 協会登録番号 | E19: 姓 | F19: 名 | G19: 姓カナ | H19: 名カナ | I19: 性別 | J19: 生年月日 yyyy/mm/dd | K19: 学年 | M19: 泉区２位
B20: １位 | D20: =IFERROR(VLOOKUP(C20,②登録!$A$6:$H$105,2,FALSE),"") | E20: =IFERROR(VLOOKUP(C20,②登録!$A$6:$H$105,3,FALSE),"") | F20: =IFERROR(VLOOKUP(C20,②登録!$A$6:$H$105,4,FALSE),"") | G20: =IFERROR(VLOOKUP(C20,②登録!$A$6:$H$105,5,FALSE),"") | H20: =IFERROR(VLOOKUP(C20,②登録!$A$6:$H$105,6,FALSE),"") | I20: =IFERROR(VLOOKUP(C20,②登録!$A$6:$H$105,7,FALSE),"") | J20: =IFERROR(VLOOKUP(C20,②登録!$A$6:$H$105,8,FALSE),"") | M20: 瀬谷区１位
D21: =IFERROR(VLOOKUP(C21,②登録!$A$6:$H$105,2,FALSE),"") | E21: =IFERROR(VLOOKUP(C21,②登録!$A$6:$H$105,3,FALSE),"") | F21: =IFERROR(VLOOKUP(C21,②登録!$A$6:$H$105,4,FALSE),"") | G21: =IFERROR(VLOOKUP(C21,②登録!$A$6:$H$105,5,FALSE),"") | H21: =IFERROR(VLOOKUP(C21,②登録!$A$6:$H$105,6,FALSE),"") | I21: =IFERROR(VLOOKUP(C21,②登録!$A$6:$H$105,7,FALSE),"") | J21: =IFERROR(VLOOKUP(C21,②登録!$A$6:$H$105,8,FALSE),"") | M21: 瀬谷区２位
B22: ２位 | D22: =IFERROR(VLOOKUP(C22,②登録!$A$6:$H$105,2,FALSE),"") | E22: =IFERROR(VLOOKUP(C22,②登録!$A$6:$H$105,3,FALSE),"") | F22: =IFERROR(VLOOKUP(C22,②登録!$A$6:$H$105,4,FALSE),"") | G22: =IFERROR(VLOOKUP(C22,②登録!$A$6:$H$105,5,FALSE),"") | H22: =IFERROR(VLOOKUP(C22,②登録!$A$6:$H$105,6,FALSE),"") | I22: =IFERROR(VLOOKUP(C22,②登録!$A$6:$H$105,7,FALSE),"") | J22: =IFERROR(VLOOKUP(C22,②登録!$A$6:$H$105,8,FALSE),"") | M22: 港南区１位
D23: =IFERROR(VLOOKUP(C23,②登録!$A$6:$H$105,2,FALSE),"") | E23: =IFERROR(VLOOKUP(C23,②登録!$A$6:$H$105,3,FALSE),"") | F23: =IFERROR(VLOOKUP(C23,②登録!$A$6:$H$105,4,FALSE),"") | G23: =IFERROR(VLOOKUP(C23,②登録!$A$6:$H$105,5,FALSE),"") | H23: =IFERROR(VLOOKUP(C23,②登録!$A$6:$H$105,6,FALSE),"") | I23: =IFERROR(VLOOKUP(C23,②登録!$A$6:$H$105,7,FALSE),"") | J23: =IFERROR(VLOOKUP(C23,②登録!$A$6:$H$105,8,FALSE),"") | M23: 港南区２位
B24: ３位 | D24: =IFERROR(VLOOKUP(C24,②登録!$A$6:$H$105,2,FALSE),"") | E24: =IFERROR(VLOOKUP(C24,②登録!$A$6:$H$105,3,FALSE),"") | F24: =IFERROR(VLOOKUP(C24,②登録!$A$6:$H$105,4,FALSE),"") | G24: =IFERROR(VLOOKUP(C24,②登録!$A$6:$H$105,5,FALSE),"") | H24: =IFERROR(VLOOKUP(C24,②登録!$A$6:$H$105,6,FALSE),"") | I24: =IFERROR(VLOOKUP(C24,②登録!$A$6:$H$105,7,FALSE),"") | J24: =IFERROR(VLOOKUP(C24,②登録!$A$6:$H$105,8,FALSE),"") | M24: 磯子区１位
D25: =IFERROR(VLOOKUP(C25,②登録!$A$6:$H$105,2,FALSE),"") | E25: =IFERROR(VLOOKUP(C25,②登録!$A$6:$H$105,3,FALSE),"") | F25: =IFERROR(VLOOKUP(C25,②登録!$A$6:$H$105,4,FALSE),"") | G25: =IFERROR(VLOOKUP(C25,②登録!$A$6:$H$105,5,FALSE),"") | H25: =IFERROR(VLOOKUP(C25,②登録!$A$6:$H$105,6,FALSE),"") | I25: =IFERROR(VLOOKUP(C25,②登録!$A$6:$H$105,7,FALSE),"") | J25: =IFERROR(VLOOKUP(C25,②登録!$A$6:$H$105,8,FALSE),"") | M25: 磯子区２位
M26: 金沢区１位
B27: ※ 選手名は、②登録のNo.を入力してください。 | M27: 金沢区２位
B28: 必要があれば、この用紙を印刷してご使用ください。 | M28: 戸塚区１位
M29: 戸塚区２位
C30: 申込期日 | D30: 令和８年 | F30: 月 | H30: 日 | M30: 栄区１位
M31: 栄区２位
C32: 学校長 | M32: 港北区１位
M33: 港北区２位
C34: 申込責任者 | M34: 緑区１位
M35: 緑区２位
M36: 青葉区１位
M37: 青葉区２位
M38: 青葉区３位
M39: 都筑区１位
M40: 都筑区２位
M41: 都筑区３位

Sheet ④女運営個S
A1: GS | B1: =IF((③女子入力!$K$13)*1=1,(③女子入力!$E$13&" "&③女子入力!$F$13&"①"),(③女子入力!$E$13&" "&③女子入力!$F$13)) | C1: =VLOOKUP(③女子入力!$C$5,②登録!$L:$N,3,FALSE) -> #N/A | D1: -1
A2: GS | B2: =IF((③女子入力!$K$14)*1=1,(③女子入力!$E$14&" "&③女子入力!$F$14&"①"),(③女子入力!$E$14&" "&③女子入力!$F$14)) | C2: =VLOOKUP(③女子入力!$C$5,②登録!$L:$N,3,FALSE) -> #N/A | D2: -1
A3: GS | B3: =IF((③女子入力!$K$15)*1=1,(③女子入力!$E$15&" "&③女子入力!$F$15&"①"),(③女子入力!$E$15&" "&③女子入力!$F$15)) | C3: =VLOOKUP(③女子入力!$C$5,②登録!$L:$N,3,FALSE) -> #N/A | D3: -1

Sheet ⑤女運営個D
A1: GD | B1: =IF((③女子入力!$K$20)*1=1,(③女子入力!$E$20&" "&③女子入力!$F$20&"①"),(③女子入力!$E$20&" "&③女子入力!$F$20)) | C1: =IF((③女子入力!$K$21)*1=1,(③女子入力!$E$21&" "&③女子入力!$F$21&"①"),(③女子入力!$E$21&" "&③女子入力!$F$21)) | D1: =VLOOKUP(③女子入力!$C$5,②登録!$L:$N,3,FALSE) -> #N/A | E1: =VLOOKUP(③女子入力!$C$5,②登録!$L:$N,3,FALSE) -> #N/A | F1: -1
A2: GD | B2: =IF((③女子入力!$K$22)*1=1,(③女子入力!$E$22&" "&③女子入力!$F$22&"①"),(③女子入力!$E$22&" "&③女子入力!$F$22)) | C2: =IF((③女子入力!$K$23)*1=1,(③女子入力!$E$23&" "&③女子入力!$F$23&"①"),(③女子入力!$E$23&" "&③女子入力!$F$23)) | D2: =VLOOKUP(③女子入力!$C$5,②登録!$L:$N,3,FALSE) -> #N/A | E2: =VLOOKUP(③女子入力!$C$5,②登録!$L:$N,3,FALSE) -> #N/A | F2: -1
A3: GD | B3: =IF((③女子入力!$K$24)*1=1,(③女子入力!$E$24&" "&③女子入力!$F$24&"①"),(③女子入力!$E$24&" "&③女子入力!$F$24)) | C3: =IF((③女子入力!$K$25)*1=1,(③女子入力!$E$25&" "&③女子入力!$F$25&"①"),(③女子入力!$E$25&" "&③女子入力!$F$25)) | D3: =VLOOKUP(③女子入力!$C$5,②登録!$L:$N,3,FALSE) -> #N/A | E3: =VLOOKUP(③女子入力!$C$5,②登録!$L:$N,3,FALSE) -> #N/A | F3: -1

Sheet ⑥女集計個S
A1: =③女子入力!$C$6 | B1: =③女子入力!$C$5 | C1: =VLOOKUP(B1,②登録!$L:$M,2,FALSE) -> #N/A | D1: =③女子入力!$E$13&" "&③女子入力!$F$13 | E1: =③女子入力!$G$13&" "&③女子入力!$H$13 | F1: =③女子入力!$K$13 -> 0 | G1: =③女子入力!$C$13 -> 0
A2: =③女子入力!$C$6 | B2: =③女子入力!$C$5 | C2: =VLOOKUP(B2,②登録!$L:$M,2,FALSE) -> #N/A | D2: =③女子入力!$E$14&" "&③女子入力!$F$14 | E2: =③女子入力!$G$14&" "&③女子入力!$H$14 | F2: =③女子入力!$K$14 -> 0 | G2: =③女子入力!$C$14 -> 0
A3: =③女子入力!$C$6 | B3: =③女子入力!$C$5 | C3: =VLOOKUP(B3,②登録!$L:$M,2,FALSE) -> #N/A | D3: =③女子入力!$E$15&" "&③女子入力!$F$15 | E3: =③女子入力!$G$15&" "&③女子入力!$H$15 | F3: =③女子入力!$K$15 -> 0 | G3: =③女子入力!$C$15 -> 0

Sheet ⑦女集計個D
A1: =③女子入力!$C$6 | B1: =③女子入力!$C$5 | C1: =VLOOKUP(B1,②登録!$L:$M,2,FALSE) -> #N/A | D1: =③女子入力!$E$20&" "&③女子入力!$F$20 | E1: =③女子入力!$G$20&" "&③女子入力!$H$20 | F1: =③女子入力!$K$20 -> 0 | G1: =③女子入力!$C$20 -> 0
A2: =③女子入力!$C$6 | B2: =③女子入力!$C$5 | C2: =VLOOKUP(B2,②登録!$L:$M,2,FALSE) -> #N/A | D2: =③女子入力!$E$21&" "&③女子入力!$F$21 | E2: =③女子入力!$G$21&" "&③女子入力!$H$21 | F2: =③女子入力!$K$21 -> 0 | G2: =③女子入力!$C$21 -> 0
A3: =③女子入力!$C$6 | B3: =③女子入力!$C$5 | C3: =VLOOKUP(B3,②登録!$L:$M,2,FALSE) -> #N/A | D3: =③女子入力!$E$22&" "&③女子入力!$F$22 | E3: =③女子入力!$G$22&" "&③女子入力!$H$22 | F3: =③女子入力!$K$22 -> 0 | G3: =③女子入力!$C$22 -> 0
A4: =③女子入力!$C$6 | B4: =③女子入力!$C$5 | C4: =VLOOKUP(B4,②登録!$L:$M,2,FALSE) -> #N/A | D4: =③女子入力!$E$23&" "&③女子入力!$F$23 | E4: =③女子入力!$G$23&" "&③女子入力!$H$23 | F4: =③女子入力!$K$23 -> 0 | G4: =③女子入力!$C$23 -> 0
A5: =③女子入力!$C$6 | B5: =③女子入力!$C$5 | C5: =VLOOKUP(B5,②登録!$L:$M,2,FALSE) -> #N/A | D5: =③女子入力!$E$24&" "&③女子入力!$F$24 | E5: =③女子入力!$G$24&" "&③女子入力!$H$24 | F5: =③女子入力!$K$24 -> 0 | G5: =③女子入力!$C$24 -> 0
A6: =③女子入力!$C$6 | B6: =③女子入力!$C$5 | C6: =VLOOKUP(B6,②登録!$L:$M,2,FALSE) -> #N/A | D6: =③女子入力!$E$25&" "&③女子入力!$F$25 | E6: =③女子入力!$G$25&" "&③女子入力!$H$25 | F6: =③女子入力!$K$25 -> 0 | G6: =③女子入力!$C$25 -> 0
